BEGIN:VCALENDAR
VERSION:2.0
PRODID:-// - ECPv6.0.9//NONSGML v1.0//EN
CALSCALE:GREGORIAN
METHOD:PUBLISH
X-ORIGINAL-URL:https://www.mjc-vire.org
X-WR-CALDESC:évènements pour 
REFRESH-INTERVAL;VALUE=DURATION:PT1H
X-Robots-Tag:noindex
X-PUBLISHED-TTL:PT1H
BEGIN:VTIMEZONE
TZID:Europe/Paris
BEGIN:DAYLIGHT
TZOFFSETFROM:+0100
TZOFFSETTO:+0200
TZNAME:CEST
DTSTART:20220327T010000
END:DAYLIGHT
BEGIN:STANDARD
TZOFFSETFROM:+0200
TZOFFSETTO:+0100
TZNAME:CET
DTSTART:20221030T010000
END:STANDARD
BEGIN:DAYLIGHT
TZOFFSETFROM:+0100
TZOFFSETTO:+0200
TZNAME:CEST
DTSTART:20230326T010000
END:DAYLIGHT
BEGIN:STANDARD
TZOFFSETFROM:+0200
TZOFFSETTO:+0100
TZNAME:CET
DTSTART:20231029T010000
END:STANDARD
BEGIN:DAYLIGHT
TZOFFSETFROM:+0100
TZOFFSETTO:+0200
TZNAME:CEST
DTSTART:20240331T010000
END:DAYLIGHT
BEGIN:STANDARD
TZOFFSETFROM:+0200
TZOFFSETTO:+0100
TZNAME:CET
DTSTART:20241027T010000
END:STANDARD
END:VTIMEZONE
BEGIN:VEVENT
DTSTART;TZID=Europe/Paris:20240626T133000
DTEND;TZID=Europe/Paris:20240626T173000
DTSTAMP:20260424T063110
CREATED:20231124T095541Z
LAST-MODIFIED:20231124T095616Z
UID:6796-1719408600-1719423000@www.mjc-vire.org
SUMMARY:Fête de l'été
DESCRIPTION:
URL:https://www.mjc-vire.org/event/fete-de-lete/
LOCATION:MJC Vire Normandie
END:VEVENT
BEGIN:VEVENT
DTSTART;TZID=Europe/Paris:20240614T200000
DTEND;TZID=Europe/Paris:20240614T230000
DTSTAMP:20260424T063110
CREATED:20231124T095501Z
LAST-MODIFIED:20231124T095533Z
UID:6794-1718395200-1718406000@www.mjc-vire.org
SUMMARY:Gala de danse
DESCRIPTION:
URL:https://www.mjc-vire.org/event/gala-de-danse-4/
LOCATION:Vire\, France
END:VEVENT
BEGIN:VEVENT
DTSTART;TZID=Europe/Paris:20240505T093000
DTEND;TZID=Europe/Paris:20240505T170000
DTSTAMP:20260424T063110
CREATED:20231124T100725Z
LAST-MODIFIED:20231124T100753Z
UID:6810-1714901400-1714928400@www.mjc-vire.org
SUMMARY:Randonnée du dimanche
DESCRIPTION:Public : Tous / Tarif : adhésion MJC \nUn dimanche par mois\, des randonneurs bénévoles et adhérents organisent une randonnée permettant de découvrir la richesse du Bocage Normand.
URL:https://www.mjc-vire.org/event/randonnee-du-dimanche-6/
END:VEVENT
BEGIN:VEVENT
DTSTART;TZID=Europe/Paris:20240420T100000
DTEND;TZID=Europe/Paris:20240420T170000
DTSTAMP:20260424T063110
CREATED:20231124T094822Z
LAST-MODIFIED:20231124T095452Z
UID:6792-1713607200-1713632400@www.mjc-vire.org
SUMMARY:Ouverture de la Base de loisirs de la Dathée
DESCRIPTION:
URL:https://www.mjc-vire.org/event/ouverture-de-la-base-de-loisirs-de-la-dathee-3/
LOCATION:Base de loisirs de la Dathée
END:VEVENT
BEGIN:VEVENT
DTSTART;TZID=Europe/Paris:20240414T093000
DTEND;TZID=Europe/Paris:20240414T170000
DTSTAMP:20260424T063110
CREATED:20231124T100632Z
LAST-MODIFIED:20231124T100709Z
UID:6808-1713087000-1713114000@www.mjc-vire.org
SUMMARY:Randonnée du dimanche
DESCRIPTION:Public : Tous / Tarif : adhésion MJC \nUn dimanche par mois\, des randonneurs bénévoles et adhérents organisent une randonnée permettant de découvrir la richesse du Bocage Normand.
URL:https://www.mjc-vire.org/event/randonnee-du-dimanche-5/
END:VEVENT
BEGIN:VEVENT
DTSTART;TZID=Europe/Paris:20240323T100000
DTEND;TZID=Europe/Paris:20240324T170000
DTSTAMP:20260424T063110
CREATED:20231124T095635Z
LAST-MODIFIED:20231124T095735Z
UID:6798-1711188000-1711299600@www.mjc-vire.org
SUMMARY:Fête du jeu
DESCRIPTION:
URL:https://www.mjc-vire.org/event/fete-du-jeu-3/
LOCATION:MJC Vire Normandie
END:VEVENT
BEGIN:VEVENT
DTSTART;TZID=Europe/Paris:20240310T093000
DTEND;TZID=Europe/Paris:20240310T170000
DTSTAMP:20260424T063110
CREATED:20231124T100526Z
LAST-MODIFIED:20231124T100625Z
UID:6806-1710063000-1710090000@www.mjc-vire.org
SUMMARY:Randonnée du dimanche
DESCRIPTION:Public : Tous / Tarif : adhésion MJC \nUn dimanche par mois\, des randonneurs bénévoles et adhérents organisent une randonnée permettant de découvrir la richesse du Bocage Normand.
URL:https://www.mjc-vire.org/event/randonnee-du-dimanche-4/
END:VEVENT
BEGIN:VEVENT
DTSTART;TZID=Europe/Paris:20240228T133000
DTEND;TZID=Europe/Paris:20240228T173000
DTSTAMP:20260424T063110
CREATED:20231124T094702Z
LAST-MODIFIED:20231124T094815Z
UID:6790-1709127000-1709141400@www.mjc-vire.org
SUMMARY:Journée déguisée
DESCRIPTION:
URL:https://www.mjc-vire.org/event/journee-deguisee/
LOCATION:MJC Vire Normandie
END:VEVENT
BEGIN:VEVENT
DTSTART;TZID=Europe/Paris:20240214T180000
DTEND;TZID=Europe/Paris:20240214T220000
DTSTAMP:20260424T063110
CREATED:20231124T094600Z
LAST-MODIFIED:20231124T094646Z
UID:6788-1707933600-1707948000@www.mjc-vire.org
SUMMARY:Saint Valentin à la Ludothèque
DESCRIPTION:
URL:https://www.mjc-vire.org/event/saint-valentin-a-la-ludotheque/
LOCATION:Ludothèque
END:VEVENT
BEGIN:VEVENT
DTSTART;TZID=Europe/Paris:20240211T093000
DTEND;TZID=Europe/Paris:20240211T170000
DTSTAMP:20260424T063110
CREATED:20231124T100449Z
LAST-MODIFIED:20231124T100518Z
UID:6804-1707643800-1707670800@www.mjc-vire.org
SUMMARY:Randonnée du dimanche
DESCRIPTION:Public : Tous / Tarif : adhésion MJC \nUn dimanche par mois\, des randonneurs bénévoles et adhérents organisent une randonnée permettant de découvrir la richesse du Bocage Normand.
URL:https://www.mjc-vire.org/event/randonnee-du-dimanche-3/
END:VEVENT
BEGIN:VEVENT
DTSTART;TZID=Europe/Paris:20240114T093000
DTEND;TZID=Europe/Paris:20240114T170000
DTSTAMP:20260424T063110
CREATED:20231124T100347Z
LAST-MODIFIED:20231124T100440Z
UID:6802-1705224600-1705251600@www.mjc-vire.org
SUMMARY:Randonnée du dimanche
DESCRIPTION:Public : Tous / Tarif : adhésion MJC \nUn dimanche par mois\, des randonneurs bénévoles et adhérents organisent une randonnée permettant de découvrir la richesse du Bocage Normand.
URL:https://www.mjc-vire.org/event/randonnee-du-dimanche-2/
END:VEVENT
BEGIN:VEVENT
DTSTART;TZID=Europe/Paris:20231227T133000
DTEND;TZID=Europe/Paris:20231227T173000
DTSTAMP:20260424T063110
CREATED:20231124T093631Z
LAST-MODIFIED:20231124T094550Z
UID:6786-1703683800-1703698200@www.mjc-vire.org
SUMMARY:Journée de Noël
DESCRIPTION:MERCREDI 27 DÉCEMBRE DE 13H30 À 17H30 : FÊTE DE NOËL \nPublic : Tous / Tarif : Gratuit / Lieu : Site de Neuville \nUne journée festive et féerique autour de Noël de 13h30 à 17h30. Jeux\, jouets\, activités manuelles\, lecture de contes\, goûter\, décoration de sablés\, maquillage et bien d’autres activités… Journée gratuite et en accès libre au site de Neuville (Rue de l’Eglise 14500 Vire). (+ d’infos : 02.31.66.35.10)
URL:https://www.mjc-vire.org/event/journee-de-noel/
LOCATION:Site de Neuville
END:VEVENT
BEGIN:VEVENT
DTSTART;TZID=Europe/Paris:20231210T093000
DTEND;TZID=Europe/Paris:20231210T170000
DTSTAMP:20260424T063110
CREATED:20231124T100011Z
LAST-MODIFIED:20231124T100333Z
UID:6800-1702200600-1702227600@www.mjc-vire.org
SUMMARY:Randonnée du dimanche
DESCRIPTION:Public : Tous / Tarif : adhésion MJC \nUn dimanche par mois\, des randonneurs bénévoles et adhérents organisent une randonnée permettant de découvrir la richesse du Bocage Normand.
URL:https://www.mjc-vire.org/event/randonnee-du-dimanche/
END:VEVENT
BEGIN:VEVENT
DTSTART;TZID=Europe/Paris:20231209T100000
DTEND;TZID=Europe/Paris:20231209T170000
DTSTAMP:20260424T063110
CREATED:20231124T093153Z
LAST-MODIFIED:20231124T093614Z
UID:6784-1702116000-1702141200@www.mjc-vire.org
SUMMARY:Téléthon
DESCRIPTION:[Téléthon 2023 : Samedi 9 décembre]\n\n\nCette année\, à l’occasion du Téléthon\, la MJC de Vire Normandie proposera plusieurs événements le samedi 9 décembre à la porte Horloge. A 10H30\, départ d’une randonnée d’environ 4 kilomètres retraçant l’histoire de la ville\, de ses monuments et occupants. A 14H00\, départ d’une randonnée de 8 kilomètres dans Vire et ses abords.\n\n\nTout au long de la journée\, de 10H00 à 17H00\, deux activités vous seront proposées :\n\n\nUne course d’orientation regroupant géocaching et résolution d’énigmes (tout public\, durée environ 1 heure) ainsi qu’un espace « jeux géants » animé par l’équipe de la ludothèque.\n\n\nPour les activités (sauf les jeux ludothèque en participation libre)\, 2€ vous seront demandés et seront intégralement reversés au Téléthon
URL:https://www.mjc-vire.org/event/telethon/
LOCATION:Vire\, France
ATTACH;FMTTYPE=image/png:https://www.mjc-vire.org/wp-content/uploads/2023/11/Mrs.-Sharlene-Rose-1.png
END:VEVENT
BEGIN:VEVENT
DTSTART;TZID=Europe/Paris:20230727T200000
DTEND;TZID=Europe/Paris:20230727T233000
DTSTAMP:20260424T063110
CREATED:20220922T140810Z
LAST-MODIFIED:20230227T083639Z
UID:6225-1690488000-1690500600@www.mjc-vire.org
SUMMARY:Soirée jeux
DESCRIPTION:La ludothèque est présente à la soirée jeux de taverne et donjon ce 27 juillet 2023 de 20h à 00h. 
URL:https://www.mjc-vire.org/event/soiree-jeux-12/
LOCATION:Ludothèque
ATTACH;FMTTYPE=image/png:https://www.mjc-vire.org/wp-content/uploads/2022/09/Soiree-jeux-a-Taverne-et-Donjon.png
END:VEVENT
BEGIN:VEVENT
DTSTART;TZID=Europe/Paris:20230622T200000
DTEND;TZID=Europe/Paris:20230622T233000
DTSTAMP:20260424T063110
CREATED:20220922T140440Z
LAST-MODIFIED:20230227T083857Z
UID:6223-1687464000-1687476600@www.mjc-vire.org
SUMMARY:Soirée jeux
DESCRIPTION:La ludothèque est présente à la soirée jeux de taverne et donjon ce 22 juin 2023 de 20h à 00h. 
URL:https://www.mjc-vire.org/event/soiree-jeux-11/
LOCATION:Ludothèque
ATTACH;FMTTYPE=image/png:https://www.mjc-vire.org/wp-content/uploads/2022/09/Soiree-jeux-a-Taverne-et-Donjon.png
END:VEVENT
BEGIN:VEVENT
DTSTART;TZID=Europe/Paris:20230616T193000
DTEND;TZID=Europe/Paris:20230616T193000
DTSTAMP:20260424T063110
CREATED:20230210T093041Z
LAST-MODIFIED:20230210T093041Z
UID:6322-1686943800-1686943800@www.mjc-vire.org
SUMMARY:Gala de danse
DESCRIPTION:Plus d’informations prochainement…
URL:https://www.mjc-vire.org/event/gala-de-danse-3/
LOCATION:Vire\, France
ORGANIZER;CN="MJC%20Vire%20Normandie":MAILTO:mjc@mjc-vire.org
END:VEVENT
BEGIN:VEVENT
DTSTART;TZID=Europe/Paris:20230525T200000
DTEND;TZID=Europe/Paris:20230525T233000
DTSTAMP:20260424T063110
CREATED:20220922T140300Z
LAST-MODIFIED:20230227T092015Z
UID:6221-1685044800-1685057400@www.mjc-vire.org
SUMMARY:Soirée jeux
DESCRIPTION:La ludothèque est présente à la soirée jeux de taverne et donjon ce 25 mai 2023 de 20h à 00h. 
URL:https://www.mjc-vire.org/event/soiree-jeux-10/
LOCATION:Ludothèque
ATTACH;FMTTYPE=image/png:https://www.mjc-vire.org/wp-content/uploads/2022/09/Soiree-jeux-a-Taverne-et-Donjon.png
END:VEVENT
BEGIN:VEVENT
DTSTART;TZID=Europe/Paris:20230514T080000
DTEND;TZID=Europe/Paris:20230514T170000
DTSTAMP:20260424T063110
CREATED:20220921T081144Z
LAST-MODIFIED:20220921T081144Z
UID:6195-1684051200-1684083600@www.mjc-vire.org
SUMMARY:Randonnée pédestre
DESCRIPTION:
URL:https://www.mjc-vire.org/event/randonnee-pedestre-7/
ATTACH;FMTTYPE=image/png:https://www.mjc-vire.org/wp-content/uploads/2022/09/RANDONNEE-PEDESTRE-1.png
END:VEVENT
BEGIN:VEVENT
DTSTART;TZID=Europe/Paris:20230427T200000
DTEND;TZID=Europe/Paris:20230427T233000
DTSTAMP:20260424T063111
CREATED:20220922T140047Z
LAST-MODIFIED:20230227T092933Z
UID:6219-1682625600-1682638200@www.mjc-vire.org
SUMMARY:Soirées jeux
DESCRIPTION:La ludothèque est présente à la soirée jeux de taverne et donjon ce 27 avril 2023 de 20h à 00h. 
URL:https://www.mjc-vire.org/event/soirees-jeux-2/
LOCATION:Ludothèque
ATTACH;FMTTYPE=image/png:https://www.mjc-vire.org/wp-content/uploads/2022/09/Soiree-jeux-a-Taverne-et-Donjon.png
END:VEVENT
BEGIN:VEVENT
DTSTART;VALUE=DATE:20230401
DTEND;VALUE=DATE:20230402
DTSTAMP:20260424T063111
CREATED:20230210T093137Z
LAST-MODIFIED:20230227T091443Z
UID:6324-1680307200-1680393599@www.mjc-vire.org
SUMMARY:La MJC s'anime #1
DESCRIPTION:Notre événement pour fêter l’arrivée du printemps\, découvrir la MJC\, présenter nos activités\, s’amuser et vous divertir !   \nAu programme :  \n\nJeu concours \nMaquillage pour enfants\nInitiation au SLAM\nparcours sportif \nJeux et jouets \nPique nique géant \nSoirée concert scène ouverte..\n\nGRATUIT 
URL:https://www.mjc-vire.org/event/la-mjc-sanime-1/
LOCATION:Site de Neuville
ATTACH;FMTTYPE=image/png:https://www.mjc-vire.org/wp-content/uploads/2023/02/la-mjc-sanime.png
ORGANIZER;CN="MJC%20Vire%20Normandie":MAILTO:mjc@mjc-vire.org
END:VEVENT
BEGIN:VEVENT
DTSTART;TZID=Europe/Paris:20230330T200000
DTEND;TZID=Europe/Paris:20230330T233000
DTSTAMP:20260424T063111
CREATED:20220922T135759Z
LAST-MODIFIED:20230227T092748Z
UID:6217-1680206400-1680219000@www.mjc-vire.org
SUMMARY:Soirées jeux
DESCRIPTION:La ludothèque est présente à la soirée jeux de taverne et donjon ce 30 mars 2023 de 20h à 00h. 
URL:https://www.mjc-vire.org/event/soirees-jeux/
LOCATION:Ludothèque
ATTACH;FMTTYPE=image/png:https://www.mjc-vire.org/wp-content/uploads/2022/09/Soiree-jeux-a-Taverne-et-Donjon.png
END:VEVENT
BEGIN:VEVENT
DTSTART;TZID=Europe/Paris:20230312T080000
DTEND;TZID=Europe/Paris:20230312T170000
DTSTAMP:20260424T063111
CREATED:20220921T081049Z
LAST-MODIFIED:20220921T081049Z
UID:6193-1678608000-1678640400@www.mjc-vire.org
SUMMARY:Randonnée pédestre
DESCRIPTION:
URL:https://www.mjc-vire.org/event/randonnee-pedestre-6/
ATTACH;FMTTYPE=image/png:https://www.mjc-vire.org/wp-content/uploads/2022/09/RANDONNEE-PEDESTRE-1.png
END:VEVENT
BEGIN:VEVENT
DTSTART;TZID=Europe/Paris:20230223T200000
DTEND;TZID=Europe/Paris:20230223T233000
DTSTAMP:20260424T063111
CREATED:20220922T135646Z
LAST-MODIFIED:20220922T135646Z
UID:6215-1677182400-1677195000@www.mjc-vire.org
SUMMARY:Soirée jeux
DESCRIPTION:
URL:https://www.mjc-vire.org/event/soiree-jeux-9/
LOCATION:Ludothèque
END:VEVENT
BEGIN:VEVENT
DTSTART;TZID=Europe/Paris:20230212T080000
DTEND;TZID=Europe/Paris:20230212T170000
DTSTAMP:20260424T063111
CREATED:20220921T080855Z
LAST-MODIFIED:20220921T080855Z
UID:6191-1676188800-1676221200@www.mjc-vire.org
SUMMARY:Randonnée pédestre
DESCRIPTION:
URL:https://www.mjc-vire.org/event/randonnee-pedestre-5/
ATTACH;FMTTYPE=image/png:https://www.mjc-vire.org/wp-content/uploads/2022/09/RANDONNEE-PEDESTRE-1.png
END:VEVENT
BEGIN:VEVENT
DTSTART;TZID=Europe/Paris:20230126T200000
DTEND;TZID=Europe/Paris:20230126T233000
DTSTAMP:20260424T063111
CREATED:20220922T135400Z
LAST-MODIFIED:20220922T135400Z
UID:6213-1674763200-1674775800@www.mjc-vire.org
SUMMARY:Soirée jeux
DESCRIPTION:
URL:https://www.mjc-vire.org/event/soiree-jeux-8/
LOCATION:Ludothèque
END:VEVENT
BEGIN:VEVENT
DTSTART;TZID=Europe/Paris:20230108T080000
DTEND;TZID=Europe/Paris:20230108T170000
DTSTAMP:20260424T063111
CREATED:20220921T080748Z
LAST-MODIFIED:20221222T074810Z
UID:6189-1673164800-1673197200@www.mjc-vire.org
SUMMARY:Randonnée pédestre
DESCRIPTION:  \nRendez-vous à la MJC à 9h15  \nOu Rdv Église Pierre Maubant à vassy (valdallière) rue joseph requeult à 9h30 \nC’est une boucle. Nous allons partir du parvis : « La Vallée du Tortillon » =rando de 10kms\, prévue 3h. \nPique-nique au « Relais Normand ». Si possible de s’inscrire au pique-nique.  \nL’après-midi « Le circuit des Logettes » de 8kms. \n 
URL:https://www.mjc-vire.org/event/randonnee-pedestre-4/
ATTACH;FMTTYPE=image/png:https://www.mjc-vire.org/wp-content/uploads/2022/09/RANDONNEE-PEDESTRE-1.png
END:VEVENT
BEGIN:VEVENT
DTSTART;TZID=Europe/Paris:20221222T200000
DTEND;TZID=Europe/Paris:20221222T233000
DTSTAMP:20260424T063111
CREATED:20220922T134435Z
LAST-MODIFIED:20220922T134435Z
UID:6211-1671739200-1671751800@www.mjc-vire.org
SUMMARY:Soirée jeux
DESCRIPTION:
URL:https://www.mjc-vire.org/event/soiree-jeux-7/
LOCATION:Ludothèque
END:VEVENT
BEGIN:VEVENT
DTSTART;TZID=Europe/Paris:20221220T080000
DTEND;TZID=Europe/Paris:20221222T170000
DTSTAMP:20260424T063111
CREATED:20221114T102706Z
LAST-MODIFIED:20221114T102706Z
UID:6258-1671523200-1671728400@www.mjc-vire.org
SUMMARY:Séjour de Noël
DESCRIPTION:Public : 7-10 ans / Lieu : Fougères / Tarif : Entre 66€ et 102€ (suivant le lieu d’habitation et le quotient familial) \nEn attendant l’arrivée du père Noël\, vient te plonger dans l’univers magique féerique de Noël ! \nAu programme : jeux\, cuisine\, films et sorties autour du père Noël et de ses amis !
URL:https://www.mjc-vire.org/event/sejour-de-noel/
LOCATION:Fougères\, France
ATTACH;FMTTYPE=image/jpeg:https://www.mjc-vire.org/wp-content/uploads/2022/11/WhatsApp-Image-2022-11-09-at-17.10.40.jpeg
ORGANIZER;CN="MJC%20Vire%20Normandie":MAILTO:mjc@mjc-vire.org
END:VEVENT
BEGIN:VEVENT
DTSTART;TZID=Europe/Paris:20221211T080000
DTEND;TZID=Europe/Paris:20221211T170000
DTSTAMP:20260424T063111
CREATED:20220921T075622Z
LAST-MODIFIED:20220921T075622Z
UID:6186-1670745600-1670778000@www.mjc-vire.org
SUMMARY:Randonnée pédestre
DESCRIPTION:
URL:https://www.mjc-vire.org/event/randonnee-pedestre-3/
ATTACH;FMTTYPE=image/png:https://www.mjc-vire.org/wp-content/uploads/2022/09/RANDONNEE-PEDESTRE.png
END:VEVENT
END:VCALENDAR